BEGIN:VCALENDAR
VERSION:2.0
PRODID:-//JudicialCouncil//NONSGML v1.0//EN
BEGIN:VEVENT
UID:event29032@trial.court
DTSTAMP:20260423T161407Z
DTSTART:20260406T160000Z
DTEND:20260407T000000Z
SUMMARY:Supreme Court Oral Argument
DESCRIPTION:This oral argument session will be held in-person at Los Angeles.
 The live webcast [1] will begin on Monday, April 6, at 9 a.m. 
 View the Oral Argument Calendar [2] | Brief [3]
 /The following cases are placed upon the calendar of the Supreme Court for
 hearing at its courtroom in the Ronald Reagan State Office Building, 300
 South Spring Street, Third Floor, North Tower, Los Angeles, California, on
 April 6, 2026. The public may attend in person and also have access to
 argument via live-streaming on the judicial branch website:
 https://supreme.courts.ca.gov/ [4]./
 *MONDAY, APRIL 6, 2026 — 9:00 A.M.*
 (1) Sunflower Alliance v. California Department of Conservation et al.
 (Reabold California, LLC, Real Party in Interest), S287414 (/Chavez, J.,
 assigned justice pro tempore/)
 (2) John HR Doe et al. v. Marysville Joint Unified School District, S283639
 (/Baker, J., assigned justice pro tempore/)
 (3) People v. Cofer (Christopher Lee), S286297 (/Chou, J., assigned justice
 pro tempore/) 
 *1:30 P.M.*
 (4) In re Spielbauer (Thomas John) on Discipline, S283172 (/Castillo, J.,
 assigned justice pro tempore; to be called and continued to the early May
 calendar./)
 [1] https://jcc.granicus.com/player/event/5392
 [2] https://supreme.courts.ca.gov/sites/default/files/supremecourt/default/2026-03/April%206%2C%202026%20OA%20Calendar.pdf
 [3] https://supreme.courts.ca.gov/case-information/briefs-argued-cases/april-6-2026-oral-argument-cases
 [4] https://supreme.courts.ca.gov/
X-ALT-DESC;FMTTYPE=text/html:<p>This oral argument session will be held in-person at Los Angeles.</p>
 <p>The <a href="https://jcc.granicus.com/player/event/5392">live webcast</a> will begin on Monday, April 6, at 9 a.m. </p>
 <p>View the Oral Argument <a data-extlink="" href="https://supreme.courts.ca.gov/sites/default/files/supremecourt/default/2026-03/April%206%2C%202026%20OA%20Calendar.pdf" rel="noopener nofollow noreferrer" tabindex="-1" target="_blank">Calendar</a> | <a href="https://supreme.courts.ca.gov/case-information/briefs-argued-cases/april-6-2026-oral-argument-cases">Brief</a></p>
 <p><em>The following cases are placed upon the calendar of the Supreme Court for hearing at its courtroom in the Ronald Reagan State Office Building, 300 South Spring Street, Third Floor, North Tower, Los Angeles, California, on April 6, 2026. The public may attend in person and also have access to argument via live-streaming on the judicial branch website: <a href="https://supreme.courts.ca.gov/">https://supreme.courts.ca.gov/</a>.</em></p>
 <p><u><strong>MONDAY, APRIL 6, 2026 — 9:00 A.M.</strong></u></p>
 <p>(1) Sunflower Alliance v. California Department of Conservation et al. (Reabold California, LLC, Real Party in Interest), S287414 (<em>Chavez, J., assigned justice pro tempore</em>)</p>
 <p>(2) John HR Doe et al. v. Marysville Joint Unified School District, S283639 (<em>Baker, J., assigned justice pro tempore</em>)</p>
 <p>(3) People v. Cofer (Christopher Lee), S286297 (<em>Chou, J., assigned justice pro tempore</em>) </p>
 <p><u><strong>1:30 P.M.</strong></u></p>
 <p>(4) In re Spielbauer (Thomas John) on Discipline, S283172 (<em>Castillo, J., assigned justice pro tempore; to be called and continued to the early May calendar.</em>)</p>
 
LOCATION:
END:VEVENT
END:VCALENDAR