BEGIN:VCALENDAR
VERSION:2.0
PRODID:-//JudicialCouncil//NONSGML v1.0//EN
BEGIN:VEVENT
UID:event18883@trial.court
DTSTAMP:20260423T161408Z
DTSTART:20251201T170000Z
DTEND:20251206T010000Z
SUMMARY:Supreme Court Oral Argument
DESCRIPTION:
X-ALT-DESC;FMTTYPE=text/html:
 
LOCATION:
END:VEVENT
END:VCALENDAR